BEGIN:VCALENDAR
VERSION:2.0
PRODID:-//Stella Maris CT - ECPv6.15.20//NONSGML v1.0//EN
CALSCALE:GREGORIAN
METHOD:PUBLISH
X-WR-CALNAME:Stella Maris CT
X-ORIGINAL-URL:https://stellamarisstamford.org
X-WR-CALDESC:Events for Stella Maris CT
REFRESH-INTERVAL;VALUE=DURATION:PT1H
X-Robots-Tag:noindex
X-PUBLISHED-TTL:PT1H
BEGIN:VTIMEZONE
TZID:America/New_York
BEGIN:DAYLIGHT
TZOFFSETFROM:-0500
TZOFFSETTO:-0400
TZNAME:EDT
DTSTART:20250309T070000
END:DAYLIGHT
BEGIN:STANDARD
TZOFFSETFROM:-0400
TZOFFSETTO:-0500
TZNAME:EST
DTSTART:20251102T060000
END:STANDARD
BEGIN:DAYLIGHT
TZOFFSETFROM:-0500
TZOFFSETTO:-0400
TZNAME:EDT
DTSTART:20260308T070000
END:DAYLIGHT
BEGIN:STANDARD
TZOFFSETFROM:-0400
TZOFFSETTO:-0500
TZNAME:EST
DTSTART:20261101T060000
END:STANDARD
BEGIN:DAYLIGHT
TZOFFSETFROM:-0500
TZOFFSETTO:-0400
TZNAME:EDT
DTSTART:20270314T070000
END:DAYLIGHT
BEGIN:STANDARD
TZOFFSETFROM:-0400
TZOFFSETTO:-0500
TZNAME:EST
DTSTART:20271107T060000
END:STANDARD
END:VTIMEZONE
BEGIN:VEVENT
DTSTART;VALUE=DATE:20260505
DTEND;VALUE=DATE:20260506
DTSTAMP:20260422T175957
CREATED:20260317T043654Z
LAST-MODIFIED:20260422T133454Z
UID:221888-1777939200-1778025599@stellamarisstamford.org
SUMMARY:School for Parents - Fr. José Granados
DESCRIPTION:
URL:https://stellamarisstamford.org/event/assembly/
CATEGORIES:Academic Calendar
END:VEVENT
BEGIN:VEVENT
DTSTART;TZID=America/New_York:20260505T091500
DTEND;TZID=America/New_York:20260505T103000
DTSTAMP:20260422T175957
CREATED:20260317T035232Z
LAST-MODIFIED:20260420T205731Z
UID:221871-1777972500-1777977000@stellamarisstamford.org
SUMMARY:2nd-4th Grade Boys present a Festival of Poetry
DESCRIPTION:
URL:https://stellamarisstamford.org/event/spelling-bee/
CATEGORIES:Academic Calendar
END:VEVENT
END:VCALENDAR