BEGIN:VCALENDAR
VERSION:2.0
PRODID:-//Stella Maris CT - ECPv6.15.20//NONSGML v1.0//EN
CALSCALE:GREGORIAN
METHOD:PUBLISH
X-WR-CALNAME:Stella Maris CT
X-ORIGINAL-URL:https://stellamarisstamford.org
X-WR-CALDESC:Events for Stella Maris CT
REFRESH-INTERVAL;VALUE=DURATION:PT1H
X-Robots-Tag:noindex
X-PUBLISHED-TTL:PT1H
BEGIN:VTIMEZONE
TZID:America/New_York
BEGIN:DAYLIGHT
TZOFFSETFROM:-0500
TZOFFSETTO:-0400
TZNAME:EDT
DTSTART:20250309T070000
END:DAYLIGHT
BEGIN:STANDARD
TZOFFSETFROM:-0400
TZOFFSETTO:-0500
TZNAME:EST
DTSTART:20251102T060000
END:STANDARD
BEGIN:DAYLIGHT
TZOFFSETFROM:-0500
TZOFFSETTO:-0400
TZNAME:EDT
DTSTART:20260308T070000
END:DAYLIGHT
BEGIN:STANDARD
TZOFFSETFROM:-0400
TZOFFSETTO:-0500
TZNAME:EST
DTSTART:20261101T060000
END:STANDARD
BEGIN:DAYLIGHT
TZOFFSETFROM:-0500
TZOFFSETTO:-0400
TZNAME:EDT
DTSTART:20270314T070000
END:DAYLIGHT
BEGIN:STANDARD
TZOFFSETFROM:-0400
TZOFFSETTO:-0500
TZNAME:EST
DTSTART:20271107T060000
END:STANDARD
END:VTIMEZONE
BEGIN:VEVENT
DTSTART;TZID=America/New_York:20260423T170000
DTEND;TZID=America/New_York:20260423T180000
DTSTAMP:20260422T182802
CREATED:20260317T043126Z
LAST-MODIFIED:20260420T200006Z
UID:221884-1776963600-1776967200@stellamarisstamford.org
SUMMARY:The Wizard of Oz 6th grade girls/boys
DESCRIPTION:
URL:https://stellamarisstamford.org/event/mater-salvatoris-day-contest-all-schools-mass/
CATEGORIES:Academic Calendar
END:VEVENT
BEGIN:VEVENT
DTSTART;TZID=America/New_York:20260422T190000
DTEND;TZID=America/New_York:20260422T203000
DTSTAMP:20260422T182802
CREATED:20260317T044635Z
LAST-MODIFIED:20260420T143021Z
UID:221890-1776884400-1776889800@stellamarisstamford.org
SUMMARY:High School Presentation
DESCRIPTION:We are excited to share with you that Stella Maris is moving forward in its mission to form young men of faith\, virtue\, and excellence. Our High School Program will begin in the 2026–2027 school year\, opening 9th Grade with our pioneer class. \nWe would like to invite you to a High School Presentation that will take place at the school on Tuesday\, April 22nd\, at 7:00 p.m. \nWe also warmly encourage you to extend this invitation to any families\, friends\, or members of your community who may be interested in learning more about our High School Program. We would be delighted to welcome them. \nWe look forward to seeing each one of you! Please click HERE to sign up (this is only for organizational purposes).
URL:https://stellamarisstamford.org/event/ms-ptconf/
LOCATION:Cafeteria
CATEGORIES:Academic Calendar
END:VEVENT
END:VCALENDAR